BEGIN:VCALENDAR
VERSION:2.0
PRODID:-//Eventin//Event Calendar//EN
CALSCALE:GREGORIAN
METHOD:PUBLISH
BEGIN:VEVENT
UID:f0f6fca087cf7229eb679d77a2810328@product.themewinter.com
SUMMARY:Carl Cox Invites Brooklyn Takeover all Night
DESCRIPTION:Description\n\n \n\nInfluential media\, entertainment & techno
 logy show inspirational speakers including game changing not just a large-s
 cale conference\, but a large educational hub on digital technologies for b
 usiness\, where people communicate\, get inspired and find ready-made solut
 ions or business. Taking place over two days this year will be the 10th Con
 ference Ideas with a theme of Dangerous Realities. It features sessions and
  performances that explore climate change\, meritocracy\, giving Influentia
 l media\, entertainment & technology show inspirational speakers including 
 game changing not just a large-scale conference\, but a large educational h
 ub on digital technologies for business\, where people communicate\, get in
 spired and find ready-made solutions or business.\n\n \n\nDuring this even
 t we’ll cover\n\n \n\n\nHow to get started learning JavaScript the right
  way\n \nJavaScript for Beginners & CS Prep curriculum details\n \nWhat the
  experience of learning in an online classroom is like\n \nHow these progra
 ms prepare you for Coders and other top coding programsHere is the teaser\n
 \n\n \n\nHere is the teaser\n\n \n\n[embed]https://www.youtube.com/watch?
 v=b8ifo_m0hDY[/embed]
LOCATION:New Jersey\, USA
DTSTAMP:20260424T084227Z
DTSTART:20260311T120000Z
DTEND:20300430T200000Z
END:VEVENT
END:VCALENDAR
