BEGIN:VCALENDAR
VERSION:2.0
PRODID:-//Eventin//Event Calendar//EN
CALSCALE:GREGORIAN
METHOD:PUBLISH
BEGIN:VEVENT
UID:329b65598051202a8bd2c66578270e33@product.themewinter.com
SUMMARY:Educational how to get started learning.
DESCRIPTION:Description\n\n \n\nInfluential media\, entertainment & techno
 logy show inspirational speakers including game changing not just a large-s
 cale conference\, but a large educational hub on digital technologies for b
 usiness\, where people communicate\, get inspired and find ready-made solut
 ions or business. Taking place over two days this year will be the 10th Con
 ference Ideas with a theme of Dangerous Realities. It features sessions and
  performances that explore climate change\, meritocracy\, giving\n\n \n\nI
 nfluential media\, entertainment & technology show inspirational speakers i
 ncluding game changing not just a large-scale conference\, but a large educ
 ational hub on digital technologies for business\, where people communicate
 \, get inspired and find ready-made solutions or business.\n\n \n\nDuring 
 this event we’ll cover\n\n \n\n\nHow to get started learning JavaScript 
 the right way\n \nJavaScript for Beginners & CS Prep curriculum details\n \
 nWhat the experience of learning in an online classroom is like\n \nHow the
 se programs prepare you for Coders and other top coding programsHere is the
  teaser\n\n\n \n\nHere is the teaser\n\n \n\n[embed]https://www.youtube.c
 om/watch?v=b8ifo_m0hDY[/embed]
LOCATION:Virginia\, United States
DTSTAMP:20260422T103624Z
DTSTART:20260311T100000Z
DTEND:20310430T235900Z
END:VEVENT
END:VCALENDAR
